BEGIN:VCALENDAR
VERSION:2.0
PRODID:-//IP.Board Calendar 4.6.4//EN
METHOD:PUBLISH
CALSCALE:GREGORIAN
X-WR-CALNAME:MazdaClubTR Takvimi
BEGIN:VTIMEZONE
TZID:Europe/London
TZURL:http://tzurl.org/zoneinfo/Europe/London
X-LIC-LOCATION:Europe/London
BEGIN:DAYLIGHT
TZOFFSETFROM:+0000
TZOFFSETTO:+0100
TZNAME:BST
DTSTART:20190331T020000Z
RRULE:FREQ=YEARLY;BYMONTH=3;BYDAY=-1SU
END:DAYLIGHT
BEGIN:STANDARD
TZOFFSETFROM:+0100
TZOFFSETTO:+0000
TZNAME:GMT
DTSTART:20191027T020000Z
RRULE:FREQ=YEARLY;BYMONTH=10;BYDAY=-1SU
END:STANDARD
END:VTIMEZONE
BEGIN:VEVENT
SUMMARY:Maltepe Perşembe Buluşması
DTSTAMP:20191219T051210Z
SEQUENCE:0
UID:53-1-4610dde9936beadd0b32be09234810c2@www.mazdaclubtr.com
ORGANIZER;CN="İlhan":forum@mazdaclubtr.com
DESCRIPTION:\n	Merhaba Arkadaşlar\,\n\n\n\n	Uzun bir aradan sonra bu Pe
	rşembe buluşalım dedik. Buluşma noktası yine aynı Maltepe Han Dürü
	m Cafe.\n\n\n\n	Akşam görüşmek üzere\n\n
DTSTART;VALUE=DATE:20191219
ATTENDEE;CN="İlhan";CUTYPE=INDIVIDUAL;PARTSTAT=ACCEPTED:for
	um@mazdaclubtr.com
ATTENDEE;CN="Osman Örengül";CUTYPE=INDIVIDUAL;PARTSTAT=ACC
	EPTED:forum@mazdaclubtr.com
ATTENDEE;CN="Tarahumara";CUTYPE=INDIVIDUAL;PARTSTAT=ACCEPTED
	:forum@mazdaclubtr.com
ATTENDEE;CN="Seriatsu";CUTYPE=INDIVIDUAL;PARTSTAT=ACCEPTED:f
	orum@mazdaclubtr.com
END:VEVENT
END:VCALENDAR
